BEGIN:VCALENDAR
VERSION:2.0
PRODID:-//American Lab Rescue - ECPv6.15.18//NONSGML v1.0//EN
CALSCALE:GREGORIAN
METHOD:PUBLISH
X-ORIGINAL-URL:https://americanlabrescue.com
X-WR-CALDESC:Events for American Lab Rescue
REFRESH-INTERVAL;VALUE=DURATION:PT1H
X-Robots-Tag:noindex
X-PUBLISHED-TTL:PT1H
BEGIN:VTIMEZONE
TZID:UTC
BEGIN:STANDARD
TZOFFSETFROM:+0000
TZOFFSETTO:+0000
TZNAME:UTC
DTSTART:20190101T000000
END:STANDARD
END:VTIMEZONE
BEGIN:VEVENT
DTSTART;TZID=UTC:20201101T080000
DTEND;TZID=UTC:20211231T170000
DTSTAMP:20260421T192904
CREATED:20210302T222939Z
LAST-MODIFIED:20210527T011052Z
UID:1107-1604217600-1640970000@americanlabrescue.com
SUMMARY:Custom Ink Fundraising Campaign
DESCRIPTION:We Did It! Our Custom Ink Fundraising Campaign Has Closed\nALR Holiday Fundraiser\nOrganized by ka********@***il.com \nAbout this campaign\nAmerican Lab Rescue has recently rescued several dogs that require a great deal of medical care to get them ready for adoption. We can’t say no to a dog in need! Your purchase through this fundraiser will enable us to continue saying “Yes\, we can help!” Complete holiday shopping for family\, friends and don’t forget to treat yourself to some awesome ALR gear!! \n\nAmerican Lab Rescue is an all-breed rescue group specializing in Labrador and Labrador mixes. American Lab Rescue is an all-volunteer\, 501c3 non-profit organization devoted to helping homeless dogs from puppy to senior age find their loving forever homes. \n$120 raised\nwww.americanlabrescue.com
URL:https://americanlabrescue.com/fundraisers/custom-ink-fundraising-campaign/
LOCATION:Custom Ink\, United States
CATEGORIES:Fundraising
ATTACH;FMTTYPE=image/png:https://americanlabrescue.com/wp-content/uploads/2021/03/PO44574780-front_red.png
END:VEVENT
END:VCALENDAR